BEGIN:VCALENDAR
VERSION:2.0
PRODID:-//Institut du Sacré-Cœur de Mons - ECPv6.15.18//NONSGML v1.0//EN
CALSCALE:GREGORIAN
METHOD:PUBLISH
X-ORIGINAL-URL:https://iscmons.be
X-WR-CALDESC:Évènements pour Institut du Sacré-Cœur de Mons
REFRESH-INTERVAL;VALUE=DURATION:PT1H
X-Robots-Tag:noindex
X-PUBLISHED-TTL:PT1H
BEGIN:VTIMEZONE
TZID:Europe/Paris
BEGIN:DAYLIGHT
TZOFFSETFROM:+0100
TZOFFSETTO:+0200
TZNAME:CEST
DTSTART:20250330T010000
END:DAYLIGHT
BEGIN:STANDARD
TZOFFSETFROM:+0200
TZOFFSETTO:+0100
TZNAME:CET
DTSTART:20251026T010000
END:STANDARD
BEGIN:DAYLIGHT
TZOFFSETFROM:+0100
TZOFFSETTO:+0200
TZNAME:CEST
DTSTART:20260329T010000
END:DAYLIGHT
BEGIN:STANDARD
TZOFFSETFROM:+0200
TZOFFSETTO:+0100
TZNAME:CET
DTSTART:20261025T010000
END:STANDARD
BEGIN:DAYLIGHT
TZOFFSETFROM:+0100
TZOFFSETTO:+0200
TZNAME:CEST
DTSTART:20270328T010000
END:DAYLIGHT
BEGIN:STANDARD
TZOFFSETFROM:+0200
TZOFFSETTO:+0100
TZNAME:CET
DTSTART:20271031T010000
END:STANDARD
END:VTIMEZONE
BEGIN:VEVENT
DTSTART;TZID=Europe/Paris:20260515T090000
DTEND;TZID=Europe/Paris:20260515T123000
DTSTAMP:20260421T223235
CREATED:20260302T095400Z
LAST-MODIFIED:20260302T095400Z
UID:13016-1778835600-1778848200@iscmons.be
SUMMARY:Débat politique au sein de l'école (6es options Sciences sociales)
DESCRIPTION:
URL:https://iscmons.be/event/debat-politique-au-sein-de-lecole-6es-options-sciences-sociales/
END:VEVENT
END:VCALENDAR