BEGIN:VCALENDAR
VERSION:2.0
PRODID:-//Institut du Sacré-Cœur de Mons - ECPv6.15.18//NONSGML v1.0//EN
CALSCALE:GREGORIAN
METHOD:PUBLISH
X-ORIGINAL-URL:https://iscmons.be
X-WR-CALDESC:Évènements pour Institut du Sacré-Cœur de Mons
REFRESH-INTERVAL;VALUE=DURATION:PT1H
X-Robots-Tag:noindex
X-PUBLISHED-TTL:PT1H
BEGIN:VTIMEZONE
TZID:Europe/Paris
BEGIN:DAYLIGHT
TZOFFSETFROM:+0100
TZOFFSETTO:+0200
TZNAME:CEST
DTSTART:20250330T010000
END:DAYLIGHT
BEGIN:STANDARD
TZOFFSETFROM:+0200
TZOFFSETTO:+0100
TZNAME:CET
DTSTART:20251026T010000
END:STANDARD
BEGIN:DAYLIGHT
TZOFFSETFROM:+0100
TZOFFSETTO:+0200
TZNAME:CEST
DTSTART:20260329T010000
END:DAYLIGHT
BEGIN:STANDARD
TZOFFSETFROM:+0200
TZOFFSETTO:+0100
TZNAME:CET
DTSTART:20261025T010000
END:STANDARD
BEGIN:DAYLIGHT
TZOFFSETFROM:+0100
TZOFFSETTO:+0200
TZNAME:CEST
DTSTART:20270328T010000
END:DAYLIGHT
BEGIN:STANDARD
TZOFFSETFROM:+0200
TZOFFSETTO:+0100
TZNAME:CET
DTSTART:20271031T010000
END:STANDARD
END:VTIMEZONE
BEGIN:VEVENT
DTSTART;VALUE=DATE:20260415
DTEND;VALUE=DATE:20260418
DTSTAMP:20260421T205040
CREATED:20231115T111335Z
LAST-MODIFIED:20251119T102907Z
UID:10867-1776211200-1776470399@iscmons.be
SUMMARY:Séjour scientifique à Mozet (2es Sciences)
DESCRIPTION:Découvertes scientifiques.
URL:https://iscmons.be/event/mozet-2e-option-sciences/
END:VEVENT
BEGIN:VEVENT
DTSTART;VALUE=DATE:20260415
DTEND;VALUE=DATE:20260418
DTSTAMP:20260421T205040
CREATED:20250210T103952Z
LAST-MODIFIED:20251120T111103Z
UID:11926-1776211200-1776470399@iscmons.be
SUMMARY:Séjour à Trèves (2es latines)
DESCRIPTION:
URL:https://iscmons.be/event/sejour-a-treves-2es-latines/
END:VEVENT
BEGIN:VEVENT
DTSTART;VALUE=DATE:20260416
DTEND;VALUE=DATE:20260417
DTSTAMP:20260421T205040
CREATED:20251015T082802Z
LAST-MODIFIED:20251015T082802Z
UID:12593-1776297600-1776383999@iscmons.be
SUMMARY:Aubechies (3es)
DESCRIPTION:
URL:https://iscmons.be/event/aubechies-3es/
END:VEVENT
BEGIN:VEVENT
DTSTART;VALUE=DATE:20260416
DTEND;VALUE=DATE:20260417
DTSTAMP:20260421T205040
CREATED:20260302T094751Z
LAST-MODIFIED:20260302T094751Z
UID:13012-1776297600-1776383999@iscmons.be
SUMMARY:Visite de l'Hôpital Notre-Dame à la Rose (5es Option Sciences sociales)
DESCRIPTION:(En lien avec la thématique sur la médicalisation)
URL:https://iscmons.be/event/visite-de-lhopital-notre-dame-a-la-rose-5es-option-sciences-sociales/
END:VEVENT
BEGIN:VEVENT
DTSTART;VALUE=DATE:20260416
DTEND;VALUE=DATE:20260417
DTSTAMP:20260421T205040
CREATED:20260325T104830Z
LAST-MODIFIED:20260325T104830Z
UID:13130-1776297600-1776383999@iscmons.be
SUMMARY:Bruxelles : Palais de justice + musée du Chocolat (2es Option Socio-Eco.)
DESCRIPTION:
URL:https://iscmons.be/event/bruxelles-palais-de-justice-musee-du-chocolat-2es-option-socio-eco/
END:VEVENT
END:VCALENDAR